BEGIN:VCALENDAR
VERSION:2.0
PRODID:-//Tukios.com/
BEGIN:VEVENT
UID:c451f95a-9c3a-4cf9-bb1a-3d24a3e0819e@www.lawsonfuneralhome.net
DTSTAMP:20260421T085259Z
DTSTART:20260423T173000Z
DTEND:20260423T180000Z
SUMMARY:Visitation
DESCRIPTION:
URL:https://www.lawsonfuneralhome.net/obituaries/paulette-mcglamery
LOCATION: 803 N Main St  Meridian TX 76665
GEO:31.9298395;-97.66136
END:VEVENT
END:VCALENDAR